BEGIN:VCALENDAR
VERSION:2.0
CALSCALE:GREGORIAN
METHOD:PUBLISH
PRODID://PLYC//1427326
BEGIN:VEVENT
DTSTAMP:20260424T072835
VTIMEZONE:America/New_York
DTSTART:20260425T230000Z
DTEND:20260426T010000Z
UID:1427326
SUMMARY:Earth Hug Boogie
LOCATION:Wild Rose Moon, 115 N Michigan St, Plymouth, IN, 46563
DESCRIPTION:Earth Hug Boogie\n\n04/25/26 07:00 PM EST\n - 04/25/26 09:00 PM EST\Description:\nðŸŒŽ Celebrate Earth Day at the Wild Rose Moon! Step into an evening where creativity, climate consciousness, and community spirit collide in the most joyful way. The Wild Rose Moon is gathering a constellation of regional talent for a oneâ€‘nightâ€‘only Earth Day celebration that promises music, laughter, reflection, and a whole lot of heart.\nðŸŽ¶ Musical Magic & Earthâ€‘Friendly Grooves The night kicks off with Jim Yocom’s lyrical delight, “Earth Hug Boogie,” a tune guaranteed to get your toes tapping. Holding down the musical center of gravity are John Bayler and the Moon Rockers, bringing their signature sound to anchor the festivities.\nðŸŽ­ Comedy, Satire, and… Lava? Prepare for molten mischief with “An Inconvenient Spoof,” a satirical radio play written by Wesley Lantz and performed by members of the Citizens’ Climate Lobby—complete with delightfully oozing lava effects.\nðŸŽ¤ Dynamic Duos & Ecological Anthems Loose Associates—Sophia Wilson and Mark Annella—return to the Moon stage with two of their most beloved pieces: “Animal Husbandry in the 21st Century” and “Toxic Jungle.” Expect wit, wonder, and a dash of wildness.\nðŸ“š Poetry in Motion Indiana author David Hoppe will share selections from his newest haiku collection, Snapshot Lightning, accompanied by an atmospheric trio: Mark Snell on drums, George Schricker on flute, and Nathan Waddill on bass. It’s poetry electrified.\nðŸŒ± Reflections on the Moon Tree Vision Special guests Mathew Cellmer and Sister Mary Baird will offer insights into the ecological imagination that inspired Moon Tree Arts, weaving together art, stewardship, and spiritual connection.\nðŸ™ A Blessing for the Planet Beloved Rosie will be present to share her heartfelt, prayerful words for Earth—an intimate moment of gratitude and hope.\nðŸŒ³ Support Local Reforestation Every ticket sold supports the Plymouth Tree Committee, helping to grow a greener, healthier community.\nðŸŽŸï¸ Join the Celebration Tickets are available at WildRoseMoon.com or in person at Ask For Flowers in Historic Downtown Plymouth.\n \Details:\nðŸŒŽ Celebrate Earth Day at the Wild Rose Moon! Step into an evening where creativity, climate consciousness, and community spirit collide in the most joyful way. The Wild Rose Moon is gathering a constellation of regional talent for a oneâ€‘nightâ€‘only Earth Day celebration that promises music, laughter, reflection, and a whole lot of heart.\nðŸŽ¶ Musical Magic & Earthâ€‘Friendly Grooves The night kicks off with Jim Yocom’s lyrical delight, “Earth Hug Boogie,” a tune guaranteed to get your toes tapping. Holding down the musical center of gravity are John Bayler and the Moon Rockers, bringing their signature sound to anchor the festivities.\nðŸŽ­ Comedy, Satire, and… Lava? Prepare for molten mischief with “An Inconvenient Spoof,” a satirical radio play written by Wesley Lantz and performed by members of the Citizens’ Climate Lobby—complete with delightfully oozing lava effects.\nðŸŽ¤ Dynamic Duos & Ecological Anthems Loose Associates—Sophia Wilson and Mark Annella—return to the Moon stage with two of their most beloved pieces: “Animal Husbandry in the 21st Century” and “Toxic Jungle.” Expect wit, wonder, and a dash of wildness.\nðŸ“š Poetry in Motion Indiana author David Hoppe will share selections from his newest haiku collection, Snapshot Lightning, accompanied by an atmospheric trio: Mark Snell on drums, George Schricker on flute, and Nathan Waddill on bass. It’s poetry electrified.\nðŸŒ± Reflections on the Moon Tree Vision Special guests Mathew Cellmer and Sister Mary Baird will offer insights into the ecological imagination that inspired Moon Tree Arts, weaving together art, stewardship, and spiritual connection.\nðŸ™ A Blessing for the Planet Beloved Rosie will be present to share her heartfelt, prayerful words for Earth—an intimate moment of gratitude and hope.\nðŸŒ³ Support Local Reforestation Every ticket sold supports the Plymouth Tree Committee, helping to grow a greener, healthier community.\nðŸŽŸï¸ Join the Celebration Tickets are available at WildRoseMoon.com or in person at Ask For Flowers in Historic Downtown Plymouth.\n \Location:\nWild Rose Moon\n115 N Michigan St\nPlymouth, IN 46563
X-ALT-DESC;FMTTYPE=text/html:Earth Hug Boogie<br /><br />04/25/26 07:00 PM EST - 04/25/26 09:00 PM EST<br />Description:<br />ðŸŒŽ <strong>Celebrate Earth Day at the Wild Rose Moon!</strong> Step into an evening where creativity, climate consciousness, and community spirit collide in the most joyful way. The Wild Rose Moon is gathering a constellation of regional talent for a oneâ€‘nightâ€‘only Earth Day celebration that promises music, laughter, reflection, and a whole lot of heart.<br />
ðŸŽ¶ <strong>Musical Magic &amp; Earthâ€‘Friendly Grooves</strong> The night kicks off with Jim Yocom&rsquo;s lyrical delight, <em>&ldquo;Earth Hug Boogie,&rdquo;</em> a tune guaranteed to get your toes tapping. Holding down the musical center of gravity are John Bayler and the Moon Rockers, bringing their signature sound to anchor the festivities.<br />
ðŸŽ­ <strong>Comedy, Satire, and&hellip; Lava?</strong> Prepare for molten mischief with <em>&ldquo;An Inconvenient Spoof,&rdquo;</em> a satirical radio play written by Wesley Lantz and performed by members of the Citizens&rsquo; Climate Lobby&mdash;complete with delightfully oozing lava effects.<br />
ðŸŽ¤ <strong>Dynamic Duos &amp; Ecological Anthems</strong> Loose Associates&mdash;Sophia Wilson and Mark Annella&mdash;return to the Moon stage with two of their most beloved pieces: <em>&ldquo;Animal Husbandry in the 21st Century&rdquo;</em> and <em>&ldquo;Toxic Jungle.&rdquo;</em> Expect wit, wonder, and a dash of wildness.<br />
ðŸ“š <strong>Poetry in Motion</strong> Indiana author David Hoppe will share selections from his newest haiku collection, <em>Snapshot Lightning</em>, accompanied by an atmospheric trio: Mark Snell on drums, George Schricker on flute, and Nathan Waddill on bass. It&rsquo;s poetry electrified.<br />
ðŸŒ± <strong>Reflections on the Moon Tree Vision</strong> Special guests Mathew Cellmer and Sister Mary Baird will offer insights into the ecological imagination that inspired <strong>Moon Tree Arts</strong>, weaving together art, stewardship, and spiritual connection.<br />
ðŸ™ <strong>A Blessing for the Planet</strong> Beloved Rosie will be present to share her heartfelt, prayerful words for Earth&mdash;an intimate moment of gratitude and hope.<br />
ðŸŒ³ <strong>Support Local Reforestation</strong> Every ticket sold supports the Plymouth Tree Committee, helping to grow a greener, healthier community.<br />
ðŸŽŸï¸ <strong>Join the Celebration</strong> Tickets are available at <strong>WildRoseMoon.com</strong> or in person at <strong>Ask For Flowers</strong> in Historic Downtown Plymouth.<br />
&nbsp;<br />Details:<br />ðŸŒŽ <strong>Celebrate Earth Day at the Wild Rose Moon!</strong> Step into an evening where creativity, climate consciousness, and community spirit collide in the most joyful way. The Wild Rose Moon is gathering a constellation of regional talent for a oneâ€‘nightâ€‘only Earth Day celebration that promises music, laughter, reflection, and a whole lot of heart.<br />
ðŸŽ¶ <strong>Musical Magic &amp; Earthâ€‘Friendly Grooves</strong> The night kicks off with Jim Yocom&rsquo;s lyrical delight, <em>&ldquo;Earth Hug Boogie,&rdquo;</em> a tune guaranteed to get your toes tapping. Holding down the musical center of gravity are John Bayler and the Moon Rockers, bringing their signature sound to anchor the festivities.<br />
ðŸŽ­ <strong>Comedy, Satire, and&hellip; Lava?</strong> Prepare for molten mischief with <em>&ldquo;An Inconvenient Spoof,&rdquo;</em> a satirical radio play written by Wesley Lantz and performed by members of the Citizens&rsquo; Climate Lobby&mdash;complete with delightfully oozing lava effects.<br />
ðŸŽ¤ <strong>Dynamic Duos &amp; Ecological Anthems</strong> Loose Associates&mdash;Sophia Wilson and Mark Annella&mdash;return to the Moon stage with two of their most beloved pieces: <em>&ldquo;Animal Husbandry in the 21st Century&rdquo;</em> and <em>&ldquo;Toxic Jungle.&rdquo;</em> Expect wit, wonder, and a dash of wildness.<br />
ðŸ“š <strong>Poetry in Motion</strong> Indiana author David Hoppe will share selections from his newest haiku collection, <em>Snapshot Lightning</em>, accompanied by an atmospheric trio: Mark Snell on drums, George Schricker on flute, and Nathan Waddill on bass. It&rsquo;s poetry electrified.<br />
ðŸŒ± <strong>Reflections on the Moon Tree Vision</strong> Special guests Mathew Cellmer and Sister Mary Baird will offer insights into the ecological imagination that inspired <strong>Moon Tree Arts</strong>, weaving together art, stewardship, and spiritual connection.<br />
ðŸ™ <strong>A Blessing for the Planet</strong> Beloved Rosie will be present to share her heartfelt, prayerful words for Earth&mdash;an intimate moment of gratitude and hope.<br />
ðŸŒ³ <strong>Support Local Reforestation</strong> Every ticket sold supports the Plymouth Tree Committee, helping to grow a greener, healthier community.<br />
ðŸŽŸï¸ <strong>Join the Celebration</strong> Tickets are available at <strong>WildRoseMoon.com</strong> or in person at <strong>Ask For Flowers</strong> in Historic Downtown Plymouth.<br />
&nbsp;<br />Location:<br />Wild Rose Moon<br />115 N Michigan St<br />Plymouth, IN 46563
PRIORITY:3
TRANSP:TRANSPARENT
BEGIN:VALARM
TRIGGER:-PT5M
ACTION:DISPLAY
DESCRIPTION:Reminder
END:VALARM
END:VEVENT
END:VCALENDAR
