BEGIN:VCALENDAR
VERSION:2.0
CALSCALE:GREGORIAN
METHOD:PUBLISH
PRODID://WEHO//1427375
BEGIN:VEVENT
DTSTAMP:20260424T074422
VTIMEZONE:America/Los_Angeles
DTSTART:20260426T210000Z
DTEND:20260427T000000Z
UID:1427375
SUMMARY:MEMBER EVENT: Soul Song Journey "5 Elements" in Bel Air
LOCATION:Private Residence Bel Air, West Hollywood, CA, 90069
DESCRIPTION:MEMBER EVENT: Soul Song Journey "5 Elements" in Bel Air\n\n04/26/26 02:00 PM PST\n - 04/26/26 05:00 PM PST\Description:\nAwaken Your Energy. Expand Your Consciousness. Step Into Your Power—Aligned with 432 Hz.\n\nStep into an intimate, invitation-only ceremonial experience designed to awaken your inner manifestation power and reconnect you with your natural energetic flow. This special Soul Song Journey: 5 Elements gathering weaves together live channeled frequency music, spiritual guidance, and conscious community in a high-vibrational setting.\Details:\nGuided by Saskia, the Singing Psychic Medium, and Michael Angeles, the Piano Medium of Dust of Soul, you’ll be immersed in a real-time Soul Song Channeling experience—an intuitive fusion of voice and piano attuned to the moment. Working with the resonance of 432 Hz “natural tuning”, this journey is designed to support balance, alignment, and deep inner connection.\n\nThrough the lens of the 5 Elements, the experience invites you to:\n\n\n	Activate your inner manifestation power\n	Release stored emotional energy\n	Burn through limiting beliefs and energetic blocks\n	Clear mental fog and restore clarity\n\n\nThe afternoon also features:\n\n\n	Shamanic & Kundalini energy guidance with Dr. Papa-yoni Das\n	Oracle readings with Angie Bussone\n	A nurturing space for reflection, connection, and integration\n\n\nEnjoy light snacks, drinks, and conscious networking with a like-minded community in a sacred, high-frequency environment.\n\nThis is more than an event—it’s a transformational sound ceremony and a doorway into deeper alignment with your soul.\n\nEvent starts at 2:00 p.m.\nEvent ends at 5:00 p.m.\n\nTickets: USD 36+ (event location will be shared privately 24 hours before the event)â€‹\n\Location:\nPrivate Residence Bel Air\n\nWest Hollywood, CA 90069
X-ALT-DESC;FMTTYPE=text/html:MEMBER EVENT: Soul Song Journey "5 Elements" in Bel Air<br /><br />04/26/26 02:00 PM PST - 04/26/26 05:00 PM PST<br />Description:<br /><strong>Awaken Your Energy. Expand Your Consciousness. Step Into Your Power&mdash;Aligned with 432 Hz.</strong><br />
<br />
<strong>Step into an intimate, invitation-only ceremonial experience designed to awaken your inner manifestation power and reconnect you with your natural energetic flow. This special Soul Song Journey: 5 Elements gathering weaves together live channeled frequency music, spiritual guidance, and conscious community in a high-vibrational setting.</strong><br />Details:<br /><p>Guided by&nbsp;<strong>Saskia, the Singing Psychic Medium</strong>, and&nbsp;<strong>Michael Angeles, the Piano Medium</strong>&nbsp;of&nbsp;<em>Dust of Soul</em>, you&rsquo;ll be immersed in a real-time Soul Song Channeling experience&mdash;an intuitive fusion of voice and piano attuned to the moment. Working with the resonance of&nbsp;<strong>432 Hz &ldquo;natural tuning&rdquo;</strong>, this journey is designed to support balance, alignment, and deep inner connection.</p>

<p>Through the lens of the&nbsp;<strong>5 Elements</strong>, the experience invites you to:</p>

<ul>
	<li>Activate your inner manifestation power</li>
	<li>Release stored emotional energy</li>
	<li>Burn through limiting beliefs and energetic blocks</li>
	<li>Clear mental fog and restore clarity</li>
</ul>

<p>The afternoon also features:</p>

<ul>
	<li><strong>Shamanic &amp; Kundalini energy guidance</strong>&nbsp;with Dr. Papa-yoni Das</li>
	<li><strong>Oracle readings</strong>&nbsp;with Angie Bussone</li>
	<li>A nurturing space for reflection, connection, and integration</li>
</ul>

<p>Enjoy light snacks, drinks, and conscious networking with a like-minded community in a sacred, high-frequency environment.</p>

<p>This is more than an event&mdash;it&rsquo;s a transformational sound ceremony and a doorway into deeper alignment with your soul.</p>

<p><strong>Event starts at 2:00 p.m.<br />
Event ends at 5:00 p.m.<br />
<br />
Tickets: USD 36+</strong>&nbsp;<strong><em>(event location will be shared privately 24 hours before the event)â€‹</em></strong></p>
<br />Location:<br />Private Residence Bel Air<br /><br />West Hollywood, CA 90069
PRIORITY:3
TRANSP:TRANSPARENT
BEGIN:VALARM
TRIGGER:-PT5M
ACTION:DISPLAY
DESCRIPTION:Reminder
END:VALARM
END:VEVENT
END:VCALENDAR
