BEGIN:VCALENDAR
VERSION:2.0
CALSCALE:GREGORIAN
METHOD:PUBLISH
PRODID://JCOC//1427382
BEGIN:VEVENT
DTSTAMP:20260424T110617
VTIMEZONE:America/Chicago
DTSTART:20260530T160000Z
DTEND:20260530T210000Z
UID:1427382
SUMMARY:Food Truck Festival 2026
LOCATION:Main Street Jenks, Downtown Jenks, Jenks, OK, 74037
DESCRIPTION:Food Truck Festival 2026\n\n05/30/26 11:00 AM CST\n - 05/30/26 04:00 PM CST\Description:\nMark your calendars for the Jenks America Food Truck Festival, presented by River Spirit Casino Resort!\n\nFood lovers, get ready  Your favorite annual event returns on Saturday, May 30, 2026 from 11 AM to 4 PM.\n\nMake plans to visit Main Street Jenks for a day full of incredible food from the region’s best food trucks, along with a variety of unique vendors  From sweet treats to savory favorites and everything in between, there is something for everyone to enjoy.\n\nThis event is free to attend, so bring your friends, family, and your appetite for a fun and flavorful day in downtown Jenks.\n\nThank you to our sponsors Cyntergy, First Oklahoma Bank, Okie Food Trucks, BancFirst, Public Service Company of Oklahoma, and Jenks Riverwalk for helping make this event possible!\n\Location:\nMain Street Jenks\nDowntown Jenks\nJenks, OK 74037
X-ALT-DESC;FMTTYPE=text/html:Food Truck Festival 2026<br /><br />05/30/26 11:00 AM CST - 05/30/26 04:00 PM CST<br />Description:<br /><p>Mark your calendars for the Jenks America Food Truck Festival, presented by River Spirit Casino Resort!</p>

<p>Food lovers, get ready&nbsp;&nbsp;Your favorite annual event returns on Saturday, May 30, 2026 from 11 AM to 4 PM.</p>

<p>Make plans to visit Main Street Jenks for a day full of incredible food from the region&rsquo;s best food trucks, along with a variety of unique vendors&nbsp;&nbsp;From sweet treats to savory favorites and everything in between, there is something for everyone to enjoy.</p>

<p>This event is free to attend, so bring your friends, family, and your appetite for a fun and flavorful day in downtown Jenks.</p>

<p>Thank you to our sponsors Cyntergy, First Oklahoma Bank, Okie Food Trucks, BancFirst, Public Service Company of Oklahoma, and Jenks Riverwalk for helping make this event possible!</p>
<br />Location:<br />Main Street Jenks<br />Downtown Jenks<br />Jenks, OK 74037
PRIORITY:3
TRANSP:TRANSPARENT
BEGIN:VALARM
TRIGGER:-PT5M
ACTION:DISPLAY
DESCRIPTION:Reminder
END:VALARM
END:VEVENT
END:VCALENDAR
