BEGIN:VCALENDAR
VERSION:2.0
CALSCALE:GREGORIAN
METHOD:PUBLISH
PRODID://JCOC//1427398
BEGIN:VEVENT
DTSTAMP:20260424T094711
VTIMEZONE:America/Chicago
DTSTART:20260520T163000Z
DTEND:20260520T180000Z
UID:1427398
SUMMARY:Member Luncheon & Leadership Jenks Graduation - May 2026
LOCATION:The Ranch, 10596 S. Elm Street, Jenks, OK, 74037
DESCRIPTION:Member Luncheon & Leadership Jenks Graduation - May 2026\n\n05/20/26 11:30 AM CST\n - 05/20/26 01:00 PM CST\Description:\nJoin us at The Ranch in Jenks for our May Member Luncheon featuring Colonel (Ret.) Chris Russell, decorated Air Force combat veteran, career Intelligence Officer, and author of More Than the Mission: Leadership Lessons from My Career in Air Force Intelligence. With more than 20 years of global service, his leadership experience includes roles at U.S. Special Operations Command, the Pentagon, and command of the 22nd Intelligence Squadron at the National Security Agency, supporting major combat operations in the Middle East and Afghanistan.\n\nA University of Oklahoma graduate and certified John Maxwell Leadership Coach, Chris now leads The Russell Group, where he translates battlefield leadership lessons into practical strategies that build high-performing, people-focused teams. He has also led leadership training for the Jenks Police Department and other organizations committed to strengthening their leadership culture.\n\nWe will be recognizing and celebrating our Leadership Jenks graduates as well!  Join us for lunch, meaningful connection, and leadership takeaways you can apply immediately in your business and organization. Advanced registration is encouraged. We look forward to seeing you at The Ranch!\n\nDoors Open: 11:30AM\nProgram Starts: 12:00PM\n\nClick to View: Liability Waiver\Location:\nThe Ranch\n10596 S. Elm Street\nJenks, OK 74037
X-ALT-DESC;FMTTYPE=text/html:Member Luncheon & Leadership Jenks Graduation - May 2026<br /><br />05/20/26 11:30 AM CST - 05/20/26 01:00 PM CST<br />Description:<br /><p data-end="612" data-start="66">Join us at The Ranch in Jenks for our May Member Luncheon featuring Colonel (Ret.) Chris Russell, decorated Air Force combat veteran, career Intelligence Officer, and author of&nbsp;<em data-end="327" data-start="243">More Than the Mission: Leadership Lessons from My Career in Air Force Intelligence</em>. With more than 20 years of global service, his leadership experience includes roles at U.S. Special Operations Command, the Pentagon, and command of the 22nd Intelligence Squadron at the National Security Agency, supporting major combat operations in the Middle East and Afghanistan.</p>

<p data-end="999" data-start="614">A University of Oklahoma graduate and certified John Maxwell Leadership Coach, Chris now leads The Russell Group, where he translates battlefield leadership lessons into practical strategies that build high-performing, people-focused teams. He has also led leadership training for the Jenks Police Department and other organizations committed to strengthening their leadership culture.</p>

<p data-end="1209" data-is-last-node="" data-is-only-node="" data-start="1001">We will be recognizing and celebrating our Leadership Jenks graduates as well! &nbsp;Join us for lunch, meaningful connection, and leadership takeaways you can apply immediately in your business and organization. Advanced registration is encouraged. We look forward to seeing you at The Ranch!</p>
<br />
Doors Open: 11:30AM<br />
Program Starts: 12:00PM<br />
<br />
<strong>Click to View:&nbsp;<a href="https://www.dropbox.com/scl/fi/xh0okrwobjv6y4if070ca/jenks-chamber-of-commerce-liability-waiver.pdf?rlkey=wj6uvimc4q2zlk53to4b1rgxe&amp;st=72p7pdtm&amp;dl=0">Liability Waiver</a></strong><br />Location:<br />The Ranch<br />10596 S. Elm Street<br />Jenks, OK 74037
PRIORITY:3
TRANSP:TRANSPARENT
BEGIN:VALARM
TRIGGER:-PT5M
ACTION:DISPLAY
DESCRIPTION:Reminder
END:VALARM
END:VEVENT
END:VCALENDAR
