BEGIN:VCALENDAR
VERSION:2.0
CALSCALE:GREGORIAN
METHOD:PUBLISH
PRODID://TLCC//1427407
BEGIN:VEVENT
DTSTAMP:20260419T161323
VTIMEZONE:America/Denver
DTSTART:20260428T000000Z
DTEND:20260428T020000Z
UID:1427407
SUMMARY:Archery Dodgeball Community Night
LOCATION:Sherwood Showdown, 3520 N Academy Blvd, Colorado Springs, CO, 80917
DESCRIPTION:Archery Dodgeball Community Night\n\n04/27/26 06:00 PM MST\n - 04/27/26 08:00 PM MST\Description:\nPlay Archery Dodgeball for a great cause! Join your community in support of a local non-profit, Little Spark, who's focus is on creating opportunities for learning and connection. Grab your friends and family for all-you-can-play Archery Dodgeball games. $40 per person (a $70 value!) and $5 of your purchase will go to Little Spark. We'll also have the Mini Mac Bar onsite for dinner, and they will donate 10% of sales. \Details:\n$40 per person for all-you-can-play! $5 of your purchase goes back to a local nonprofit. Pre-purchase your tickets here: https://sherwoodshowdown.as.me/community-night, walk-ins are wlecome too!\Location:\nSherwood Showdown\n3520 N Academy Blvd\nColorado Springs, CO 80917
X-ALT-DESC;FMTTYPE=text/html:Archery Dodgeball Community Night<br /><br />04/27/26 06:00 PM MST - 04/27/26 08:00 PM MST<br />Description:<br />Play Archery Dodgeball for a great cause! Join your community in support of a local non-profit, Little Spark, who's focus is on creating opportunities for learning and connection. Grab your friends and family for all-you-can-play Archery Dodgeball games. $40 per person (a $70 value!) and $5 of your purchase will go to Little Spark. We'll also have the Mini Mac Bar onsite for dinner, and they will donate 10% of sales.&nbsp;<br />Details:<br />$40 per person for all-you-can-play! $5 of your purchase goes back to a local nonprofit. Pre-purchase your tickets here:&nbsp;<a href="https://sherwoodshowdown.as.me/community-night">https://<wbr />sherwoodshowdown.as.me/community-night</a>, walk-ins are wlecome too!<br />Location:<br />Sherwood Showdown<br />3520 N Academy Blvd<br />Colorado Springs, CO 80917
PRIORITY:3
TRANSP:TRANSPARENT
BEGIN:VALARM
TRIGGER:-PT5M
ACTION:DISPLAY
DESCRIPTION:Reminder
END:VALARM
END:VEVENT
END:VCALENDAR
