BEGIN:VCALENDAR
VERSION:2.0
CALSCALE:GREGORIAN
METHOD:PUBLISH
PRODID://CARR//1427429
BEGIN:VEVENT
DTSTAMP:20260424T022112
VTIMEZONE:America/Chicago
DTSTART:20260925T130000Z
DTEND:20260925T140000Z
UID:1427429
SUMMARY:Chamber Coffee: Carroll Library
LOCATION:Carroll Library, 118 E 5th St, Carroll, IA, 51401
DESCRIPTION:Chamber Coffee: Carroll Library\n\n09/25/26 08:00 AM CST\n - 09/25/26 09:00 AM CST\Description:\nPlease join us from 8-9 a.m. for Chamber Coffee at the Carroll Library at 118 E 5th St in Carroll.\Location:\nCarroll Library\n118 E 5th St\nCarroll, IA 51401
X-ALT-DESC;FMTTYPE=text/html:Chamber Coffee: Carroll Library<br /><br />09/25/26 08:00 AM CST - 09/25/26 09:00 AM CST<br />Description:<br />Please join us from 8-9 a.m. for Chamber Coffee at the Carroll Library at 118 E 5th St in Carroll.<br />Location:<br />Carroll Library<br />118 E 5th St<br />Carroll, IA 51401
PRIORITY:3
TRANSP:TRANSPARENT
BEGIN:VALARM
TRIGGER:-PT5M
ACTION:DISPLAY
DESCRIPTION:Reminder
END:VALARM
END:VEVENT
END:VCALENDAR
