BEGIN:VCALENDAR
VERSION:2.0
CALSCALE:GREGORIAN
METHOD:PUBLISH
PRODID://AFFT//1427606
BEGIN:VEVENT
DTSTAMP:20260423T062619
VTIMEZONE:America/Chicago
DTSTART:20260516T150000Z
DTEND:20260516T153000Z
UID:1427606
SUMMARY:History Talk: Mary Meachum and the St. Louis Underground Railroad
LOCATION:Ulysses S. Grant National Historic Site , 7400 Grant Road, St. Louis, MO, 63123
DESCRIPTION:History Talk: Mary Meachum and the St. Louis Underground Railroad\n\n05/16/26 10:00 AM CST\n - 05/16/26 10:30 AM CST\Description:\nA historical person is no longer able to speak for themselves, but what they leave behind can offer interesting clues about their life. As the park commemorates the 200th anniversary of Julia Dent Grant’s birth in 2026, a special exhibit about her life will be on display throughout the summer. Through Julia’s personal items, visitors will be immersed in her role as a family-oriented woman and public figure. Historian and Curator Nick Sacco will discuss the effort to curate this exhibit and highlight several artifacts, including the oldest known photo of Julia from the early 1850s, materials from her 1848 wedding, and a first edition copy of her Personal Memoirs. The exhibit will officially open following the program and attendees are invited to be among the first to explore this uniquely assembled collection. The exhibit will run through September 30, 2026, in the museum rotunda.\Details:\nThe program is free. Call 314-842-1867 ext. 230 for reservations.\Location:\nUlysses S. Grant National Historic Site \n7400 Grant Road\nSt. Louis, MO 63123
X-ALT-DESC;FMTTYPE=text/html:History Talk: Mary Meachum and the St. Louis Underground Railroad<br /><br />05/16/26 10:00 AM CST - 05/16/26 10:30 AM CST<br />Description:<br />A historical person is no longer able to speak for themselves, but what they leave behind can offer interesting clues about their life. As the park commemorates the 200th anniversary of Julia Dent Grant&rsquo;s birth in 2026, a special exhibit about her life will be on display throughout the summer. Through Julia&rsquo;s personal items, visitors will be immersed in her role as a family-oriented woman and public figure. Historian and Curator Nick Sacco will discuss the effort to curate this exhibit and highlight several artifacts, including the oldest known photo of Julia from the early 1850s, materials from her 1848 wedding, and a first edition copy of her Personal Memoirs. The exhibit will officially open following the program and attendees are invited to be among the first to explore this uniquely assembled collection. The exhibit will run through September 30, 2026, in the museum rotunda.<br />Details:<br />The program is free. Call 314-842-1867 ext. 230 for reservations.<br />Location:<br />Ulysses S. Grant National Historic Site <br />7400 Grant Road<br />St. Louis, MO 63123
PRIORITY:3
TRANSP:TRANSPARENT
BEGIN:VALARM
TRIGGER:-PT5M
ACTION:DISPLAY
DESCRIPTION:Reminder
END:VALARM
END:VEVENT
END:VCALENDAR
