BEGIN:VCALENDAR
VERSION:2.0
CALSCALE:GREGORIAN
METHOD:PUBLISH
PRODID://JCOC//1427619
BEGIN:VEVENT
DTSTAMP:20260424T133910
VTIMEZONE:America/Chicago
DTSTART:20260712T000000Z
DTEND:20260712T024500Z
UID:1427619
SUMMARY:Sharks in the Park 2026
LOCATION:Oklahoma Aquarium, 300 Aquarium Dr, Jenks, OK, 74037
DESCRIPTION:Sharks in the Park 2026\n\n07/11/26 07:00 PM CST\n - 07/11/26 09:45 PM CST\Description:\nSponsored by Oklahoma Aquarium, River Spirit Casino Resort, BancFirst, and Jenks Riverwalk\n\nSharks in the Park, part of the annual SHARKLAHOMA celebration, celebrating all things Jenks, Oklahoma Aquarium and sharks! The event features vendors, food, a splash zone and more!\n\nClick to View: Weather and Cancellation Policy\nClick to View: Liability Waiver\Location:\nOklahoma Aquarium\n300 Aquarium Dr\nJenks, OK 74037
X-ALT-DESC;FMTTYPE=text/html:Sharks in the Park 2026<br /><br />07/11/26 07:00 PM CST - 07/11/26 09:45 PM CST<br />Description:<br /><strong>Sponsored by Oklahoma Aquarium, River Spirit Casino Resort, BancFirst, and Jenks Riverwalk</strong><br />
<br />
Sharks in the Park, part of the annual SHARKLAHOMA celebration, celebrating all things Jenks, Oklahoma Aquarium and sharks! The event features vendors, food, a splash zone and more!<br />
<br />
<strong>Click to View:&nbsp;<a href="https://www.dropbox.com/scl/fi/g1rvpfaurdpxkz2bfmfqa/Jenks-Chamber-of-Commerce-Weather-and-Cancellation-Policy.pdf?rlkey=aui790nq5f37yexdychk7mhw3&amp;st=vcq00763&amp;dl=0">Weather and Cancellation Policy</a></strong><br />
<strong>Click to View:&nbsp;<a href="https://www.dropbox.com/scl/fi/xh0okrwobjv6y4if070ca/jenks-chamber-of-commerce-liability-waiver.pdf?rlkey=wj6uvimc4q2zlk53to4b1rgxe&amp;st=72p7pdtm&amp;dl=0">Liability Waiver</a></strong><br />Location:<br />Oklahoma Aquarium<br />300 Aquarium Dr<br />Jenks, OK 74037
PRIORITY:3
TRANSP:TRANSPARENT
BEGIN:VALARM
TRIGGER:-PT5M
ACTION:DISPLAY
DESCRIPTION:Reminder
END:VALARM
END:VEVENT
END:VCALENDAR
