BEGIN:VCALENDAR
VERSION:2.0
CALSCALE:GREGORIAN
METHOD:PUBLISH
PRODID://JCOC//1427623
BEGIN:VEVENT
DTSTAMP:20260424T173140
VTIMEZONE:America/Chicago
DTSTART:20261121T160000Z
DTEND:20261121T180000Z
UID:1427623
SUMMARY:2026 Jenks Christmas Parade
LOCATION:Main Street Jenks
DESCRIPTION:2026 Jenks Christmas Parade\n\n11/21/26 10:00 AM CST\n - 11/21/26 12:00 PM CST\Description:\nJoin us for the annual Jenks Christmas Parade on November 21 at 10 a.m. along Jenks Main Street!  \n\nThis family-friendly event is the perfect way to celebrate the season and share the holiday spirit in Jenks! Whether you're a local business, school group, nonprofit, or community organization, this is a wonderful opportunity to celebrate, give back, and connect with thousands of residents and visitors. We invite you to register today and help us make this year's parade the most magical yet!\n\nDiscover Jenks Hometown Holidays is a community-wide celebration of the season, featuring Christmas in the Commons and the beloved Jenks Christmas Parade. This year we are adding something new with a holiday trolley that will connect visitors and residents to popular destinations around town, making it even easier to Discover Jenks!\n\nClick to View: Weather and Cancellation Policy\nClick to View: Liability Waiver\Location:\nMain Street Jenks\n\n,
X-ALT-DESC;FMTTYPE=text/html:2026 Jenks Christmas Parade<br /><br />11/21/26 10:00 AM CST - 11/21/26 12:00 PM CST<br />Description:<br />Join us for the annual Jenks Christmas Parade on <strong>November 21 at 10 a.m. along Jenks Main Street! </strong>&nbsp;<br />
<br />
This family-friendly event is the perfect way to celebrate&nbsp;the season and share the holiday spirit in Jenks! Whether you're a local business, school group, nonprofit, or community organization, this is a wonderful opportunity to celebrate, give back, and connect with thousands of residents and visitors. We invite you to&nbsp;register today&nbsp;and help us make this year's parade the most magical yet!<br />
<br />
Discover Jenks Hometown Holidays is a community-wide celebration of the season, featuring Christmas in the Commons and the beloved Jenks Christmas Parade. This year we are adding something new with a holiday trolley that will connect visitors and residents to popular destinations around town, making it even easier to Discover Jenks!<br />
<br />
<strong>Click to View:&nbsp;<a href="https://www.dropbox.com/scl/fi/g1rvpfaurdpxkz2bfmfqa/Jenks-Chamber-of-Commerce-Weather-and-Cancellation-Policy.pdf?rlkey=aui790nq5f37yexdychk7mhw3&amp;st=vcq00763&amp;dl=0">Weather and Cancellation Policy</a></strong><br />
<strong>Click to View:&nbsp;<a href="https://www.dropbox.com/scl/fi/xh0okrwobjv6y4if070ca/jenks-chamber-of-commerce-liability-waiver.pdf?rlkey=wj6uvimc4q2zlk53to4b1rgxe&amp;st=72p7pdtm&amp;dl=0">Liability Waiver</a></strong><br />Location:<br />Main Street Jenks<br /><br />,  
PRIORITY:3
TRANSP:TRANSPARENT
BEGIN:VALARM
TRIGGER:-PT5M
ACTION:DISPLAY
DESCRIPTION:Reminder
END:VALARM
END:VEVENT
END:VCALENDAR
