BEGIN:VCALENDAR
VERSION:2.0
CALSCALE:GREGORIAN
METHOD:PUBLISH
PRODID://HMLT//1427625
BEGIN:VEVENT
DTSTAMP:20260424T072834
VTIMEZONE:America/Chicago
DTSTART:20260501T223000Z
DTEND:20260502T000000Z
UID:1427625
SUMMARY:Elks #1882 Member Appreciation & Family Night Fish Fry
LOCATION:McLeansboro Elks Lodge #1882, 207 N Jackson St, McLeansboro, IL, IL, 62859
DESCRIPTION:Elks #1882 Member Appreciation & Family Night Fish Fry\n\n05/01/26 05:30 PM CST\n - 05/01/26 07:00 PM CST\Description:\nElks #1882 MEMBER APPRECIATION & FAMILY NIGHT FISH FRY FRIDAY, MAY 1st! Members that have paid their dues will eat for FREE! (Only paid members eat free.) Thank you for paying your dues!! Members can also pay dues that evening.\nBring the whole family in for AYCE FRESH HOT FISH! Serving begins at 5:30pm. Fish, hush puppies, fries, cole slaw and baked beans.\nOpen to public.\Details:\n$15/adult $5/child.\n$15 Carry outs available.\Location:\nMcLeansboro Elks Lodge #1882\n207 N Jackson St\nMcLeansboro, IL, IL 62859
X-ALT-DESC;FMTTYPE=text/html:Elks #1882 Member Appreciation & Family Night Fish Fry<br /><br />05/01/26 05:30 PM CST - 05/01/26 07:00 PM CST<br />Description:<br />Elks #1882 MEMBER APPRECIATION &amp; FAMILY NIGHT FISH FRY FRIDAY, MAY 1st! Members that have paid their dues will eat for FREE! (Only paid members eat free.) Thank you for paying your dues!! Members can also pay dues that evening.<br />
Bring the whole family in for AYCE FRESH HOT FISH! Serving begins at 5:30pm. Fish, hush puppies, fries, cole slaw and baked beans.<br />
Open to public.<br />Details:<br />$15/adult $5/child.<br />
$15 Carry outs available.<br />Location:<br />McLeansboro Elks Lodge #1882<br />207 N Jackson St<br />McLeansboro, IL, IL 62859
PRIORITY:3
TRANSP:TRANSPARENT
BEGIN:VALARM
TRIGGER:-PT5M
ACTION:DISPLAY
DESCRIPTION:Reminder
END:VALARM
END:VEVENT
END:VCALENDAR
