BEGIN:VCALENDAR
VERSION:2.0
CALSCALE:GREGORIAN
METHOD:PUBLISH
PRODID://WICC//1427678
BEGIN:VEVENT
DTSTAMP:20260422T214121
VTIMEZONE:America/Los_Angeles
DTSTART:20260617T010000Z
DTEND:20260617T020000Z
UID:1427678
SUMMARY:Elks 1786 mtg
LOCATION:Elks Lodge, 150 S. Shasta St., Willows, CA, 95988
DESCRIPTION:Elks 1786 mtg\n\n06/16/26 06:00 PM PST\n - 06/16/26 07:00 PM PST\Location:\nElks Lodge\n150 S. Shasta St.\nWillows, CA 95988
X-ALT-DESC;FMTTYPE=text/html:Elks 1786 mtg<br /><br />06/16/26 06:00 PM PST - 06/16/26 07:00 PM PST<br />Location:<br />Elks Lodge<br />150 S. Shasta St.<br />Willows, CA 95988
PRIORITY:3
TRANSP:TRANSPARENT
BEGIN:VALARM
TRIGGER:-PT5M
ACTION:DISPLAY
DESCRIPTION:Reminder
END:VALARM
END:VEVENT
END:VCALENDAR
