BEGIN:VCALENDAR
VERSION:2.0
CALSCALE:GREGORIAN
METHOD:PUBLISH
PRODID://WICC//1427744
BEGIN:VEVENT
DTSTAMP:20260422T214110
VTIMEZONE:America/Los_Angeles
DTSTART:20260618T003000Z
DTEND:20260618T013000Z
UID:1427744
SUMMARY:Speak Easy Toastmasters mtg
LOCATION:The Willows Public Library, 458 N. Humboldt Ave., Willows, CA, 95988
DESCRIPTION:Speak Easy Toastmasters mtg\n\n06/17/26 05:30 PM PST\n - 06/17/26 06:30 PM PST\Location:\nThe Willows Public Library\n458 N. Humboldt Ave.\nWillows, CA 95988
X-ALT-DESC;FMTTYPE=text/html:Speak Easy Toastmasters mtg<br /><br />06/17/26 05:30 PM PST - 06/17/26 06:30 PM PST<br />Location:<br />The Willows Public Library<br />458 N. Humboldt Ave.<br />Willows, CA 95988
PRIORITY:3
TRANSP:TRANSPARENT
BEGIN:VALARM
TRIGGER:-PT5M
ACTION:DISPLAY
DESCRIPTION:Reminder
END:VALARM
END:VEVENT
END:VCALENDAR
