BEGIN:VCALENDAR
VERSION:2.0
CALSCALE:GREGORIAN
METHOD:PUBLISH
PRODID://JCOC//1427834
BEGIN:VEVENT
DTSTAMP:20260424T112603
VTIMEZONE:America/Chicago
DTSTART:20260617T163000Z
DTEND:20260617T180000Z
UID:1427834
SUMMARY:Member Luncheon - June 2026
LOCATION:The Ranch, 10596 S. Elm Street, Jenks, OK, 74037
DESCRIPTION:Member Luncheon - June 2026\n\n06/17/26 11:30 AM CST\n - 06/17/26 01:00 PM CST\Description:\nJoin us for our June Luncheon featuring Tim Gatz, Oklahoma Secretary of Transportation, reappointed by Governor Kevin Stitt in February 2026. Gatz also serves as Executive Director of the Oklahoma Department of Transportation and brings extensive leadership experience overseeing the state’s transportation system.\n\nHe will share updates on Oklahoma’s current infrastructure priorities, major transportation projects, and what these developments mean for economic growth and connectivity across our region.\nMonthly member luncheons are the staple of the Jenks Chamber's annual calendar.  These meetings bring together the community to network and hear from top speakers.  \n\nDoors Open: 11:30AM\nProgram Starts: 12:00PM\n\nClick to View: Liability Waiver\Location:\nThe Ranch\n10596 S. Elm Street\nJenks, OK 74037
X-ALT-DESC;FMTTYPE=text/html:Member Luncheon - June 2026<br /><br />06/17/26 11:30 AM CST - 06/17/26 01:00 PM CST<br />Description:<br /><p data-end="314" data-start="0">Join us for our June Luncheon featuring Tim Gatz, Oklahoma Secretary of Transportation, reappointed by Governor Kevin Stitt in February 2026. Gatz also serves as Executive Director of the Oklahoma Department of Transportation and brings extensive leadership experience overseeing the state&rsquo;s transportation system.</p>

<p data-end="506" data-is-last-node="" data-is-only-node="" data-start="316">He will share updates on Oklahoma&rsquo;s current infrastructure priorities, major transportation projects, and what these developments mean for economic growth and connectivity across our region.</p>
Monthly member luncheons are the staple of the Jenks Chamber's annual calendar.&nbsp; These meetings bring together the community to network and hear from top speakers.&nbsp;&nbsp;<br />
<br />
Doors Open: 11:30AM<br />
Program Starts: 12:00PM<br />
<br />
<strong>Click to View:&nbsp;<a href="https://www.dropbox.com/scl/fi/xh0okrwobjv6y4if070ca/jenks-chamber-of-commerce-liability-waiver.pdf?rlkey=wj6uvimc4q2zlk53to4b1rgxe&amp;st=72p7pdtm&amp;dl=0">Liability Waiver</a></strong><br />Location:<br />The Ranch<br />10596 S. Elm Street<br />Jenks, OK 74037
PRIORITY:3
TRANSP:TRANSPARENT
BEGIN:VALARM
TRIGGER:-PT5M
ACTION:DISPLAY
DESCRIPTION:Reminder
END:VALARM
END:VEVENT
END:VCALENDAR
