BEGIN:VCALENDAR
VERSION:2.0
CALSCALE:GREGORIAN
METHOD:PUBLISH
PRODID://JCOC//1427902
BEGIN:VEVENT
DTSTAMP:20260424T112603
VTIMEZONE:America/Chicago
DTSTART:20260610T190000Z
DTEND:20260610T220000Z
UID:1427902
SUMMARY:Bowling for Business
LOCATION:Andy B's , 8711 S Lewis Ave, Tulsa, OK, 74137
DESCRIPTION:Bowling for Business\n\n06/10/26 02:00 PM CST\n - 06/10/26 05:00 PM CST\Description:\nGet ready for a unique blend of bowling and creativity at the Jenks Chambers Bowling for Business event! \n\nBowling for Business will take place at Andy B's located at 8711 S Lewis Ave, Tulsa, OK 74137, on June 10th from 2-5 pm.\n \nGet your team together and join us for networking, bowling, and a chance to showcase your artistic side in our pin decorating competition! \n\nClick to View: Liability Waiver\Location:\nAndy B's \n8711 S Lewis Ave\nTulsa, OK 74137
X-ALT-DESC;FMTTYPE=text/html:Bowling for Business<br /><br />06/10/26 02:00 PM CST - 06/10/26 05:00 PM CST<br />Description:<br />Get ready for a unique blend of bowling and creativity at the Jenks Chambers Bowling for Business event!&nbsp;<br />
<br />
Bowling for Business will take place at Andy B's located at 8711 S Lewis Ave, Tulsa, OK 74137, on June 10th from 2-5 pm.<br />
&nbsp;<br />
Get your team together and join us for networking, bowling, and a chance to showcase your artistic side in our pin decorating competition!&nbsp;<br />
<br />
<strong>Click to View:&nbsp;<a href="https://www.dropbox.com/scl/fi/xh0okrwobjv6y4if070ca/jenks-chamber-of-commerce-liability-waiver.pdf?rlkey=wj6uvimc4q2zlk53to4b1rgxe&amp;st=72p7pdtm&amp;dl=0">Liability Waiver</a></strong><br />Location:<br />Andy B's <br />8711 S Lewis Ave<br />Tulsa, OK 74137
PRIORITY:3
TRANSP:TRANSPARENT
BEGIN:VALARM
TRIGGER:-PT5M
ACTION:DISPLAY
DESCRIPTION:Reminder
END:VALARM
END:VEVENT
END:VCALENDAR
