BEGIN:VCALENDAR
VERSION:2.0
CALSCALE:GREGORIAN
METHOD:PUBLISH
PRODID://CARR//1427924
BEGIN:VEVENT
DTSTAMP:20260424T011018
VTIMEZONE:America/Chicago
DTSTART:20260814T130000Z
DTEND:20260814T140000Z
UID:1427924
SUMMARY:Chamber Coffee: Thermoplaz
LOCATION:Thermoplaz/Computer Repair & Service, 1660 E 10th St, Carroll, IA, 51401
DESCRIPTION:Chamber Coffee: Thermoplaz\n\n08/14/26 08:00 AM CST\n - 08/14/26 09:00 AM CST\Description:\nPlease join us from 8-9 a.m. for Chamber Coffee with Thermoplaz/Computer Repair & Service at 1660 E 10th Street in Carroll. Come check out their new space and celebrate their ribbon cutting.\Location:\nThermoplaz/Computer Repair & Service\n1660 E 10th St\nCarroll, IA 51401
X-ALT-DESC;FMTTYPE=text/html:Chamber Coffee: Thermoplaz<br /><br />08/14/26 08:00 AM CST - 08/14/26 09:00 AM CST<br />Description:<br />Please join us from 8-9 a.m. for Chamber Coffee with Thermoplaz/Computer Repair &amp; Service at 1660 E 10th Street in Carroll. Come check out their new space and celebrate their ribbon cutting.<br />Location:<br />Thermoplaz/Computer Repair & Service<br />1660 E 10th St<br />Carroll, IA 51401
PRIORITY:3
TRANSP:TRANSPARENT
BEGIN:VALARM
TRIGGER:-PT5M
ACTION:DISPLAY
DESCRIPTION:Reminder
END:VALARM
END:VEVENT
END:VCALENDAR
