BEGIN:VCALENDAR
VERSION:2.0
CALSCALE:GREGORIAN
METHOD:PUBLISH
PRODID://JCOC//1427946
BEGIN:VEVENT
DTSTAMP:20260424T110232
VTIMEZONE:America/Chicago
DTSTART:20260527T160000Z
DTEND:20260527T170000Z
UID:1427946
SUMMARY:Ribbon Cutting: Attain Fitness
LOCATION:
DESCRIPTION:Ribbon Cutting: Attain Fitness\n\n05/27/26 11:00 AM CST\n - 05/27/26 12:00 PM CST\Description:\nWednesday May 27th at 11am\n\nLocation:\n11450 S Union Ave, Suite 100\nJenks, OK\n\nDescription:\nJoin us for a Ribbon Cutting at Attain Fitness!\n\nCelebrate with Dr. Ben Mayer and staff as they showcase their brand-new, state-of-the-art facility featuring:\n\n\n	Cardio and strength training areas\n	Red light therapy\n	Saunas\n	Locker rooms\n	On-site physical therapy\n\n\nCome tour this incredible new space and see everything Attain Fitness has to offer!\n
X-ALT-DESC;FMTTYPE=text/html:Ribbon Cutting: Attain Fitness<br /><br />05/27/26 11:00 AM CST - 05/27/26 12:00 PM CST<br />Description:<br /><p data-end="263" data-start="205"><strong data-end="218" data-start="205">Wednesday May 27th at 11am<br />
<br />
Location:</strong><br data-end="221" data-start="218" />
11450 S Union Ave, Suite 100<br data-end="252" data-start="249" />
Jenks, OK</p>

<p data-end="345" data-start="265"><strong data-end="281" data-start="265">Description:</strong><br data-end="284" data-start="281" />
Join us for a Ribbon Cutting at Attain Fitness!</p>

<p data-end="458" data-start="347">Celebrate with Dr. Ben Mayer and staff as they showcase their brand-new, state-of-the-art facility featuring:</p>

<ul data-end="576" data-start="459">
	<li data-end="497" data-section-id="14an61c" data-start="459">Cardio and strength training areas</li>
	<li data-end="519" data-section-id="j6ew86" data-start="498">Red light therapy</li>
	<li data-end="530" data-section-id="1xvd41f" data-start="520">Saunas</li>
	<li data-end="547" data-section-id="19h9lqw" data-start="531">Locker rooms</li>
	<li data-end="576" data-section-id="iyhg3d" data-start="548">On-site physical therapy</li>
</ul>

<p data-end="661" data-start="578">Come tour this incredible new space and see everything Attain Fitness has to offer!</p>

PRIORITY:3
TRANSP:TRANSPARENT
BEGIN:VALARM
TRIGGER:-PT5M
ACTION:DISPLAY
DESCRIPTION:Reminder
END:VALARM
END:VEVENT
END:VCALENDAR
