BEGIN:VCALENDAR
VERSION:2.0
CALSCALE:GREGORIAN
METHOD:PUBLISH
PRODID://AFFT//1427984
BEGIN:VEVENT
DTSTAMP:20260423T073245
VTIMEZONE:America/Chicago
DTSTART:20260530T150000Z
DTEND:20260530T150000Z
UID:1427984
SUMMARY:Author Talk: â€œThe Memoirs of General William Tecumseh  Shermanâ€”The Complete Annotated Editionâ€
LOCATION:Ulysses S. Grant National Historic Site , 7400 Grant Road, St. Louis, MO, 63123
DESCRIPTION:Author Talk: â€œThe Memoirs of General William Tecumseh  Shermanâ€”The Complete Annotated Editionâ€\n\n05/30/26 10:00 AM CST\n - 05/30/26 10:00 AM CST\Description:\nJoh Marszalek and David Nolen will discuss their latest work, "The Memoirs of General William Tecumseh Sherman - The Complete Annotated Edition." This edition is a Harvard University Press publication edited by Mississippi State University's John F. Marsalek with Louie P. Gallo and David S. Nolen. \n \Details:\nThis program is free. Call (314) 842-1867 ext. 230 for reservations. \Location:\nUlysses S. Grant National Historic Site \n7400 Grant Road\nSt. Louis, MO 63123
X-ALT-DESC;FMTTYPE=text/html:Author Talk: â€œThe Memoirs of General William Tecumseh  Shermanâ€”The Complete Annotated Editionâ€<br /><br />05/30/26 10:00 AM CST - 05/30/26 10:00 AM CST<br />Description:<br />Joh Marszalek and David Nolen will discuss their latest work, &quot;The Memoirs of General William Tecumseh Sherman - The Complete Annotated Edition.&quot; This edition is a Harvard University Press publication edited by Mississippi State University's John F. Marsalek with Louie P. Gallo and David S. Nolen.&nbsp;<br />
&nbsp;<br />Details:<br />This program is free. Call (314) 842-1867 ext. 230 for reservations.&nbsp;<br />Location:<br />Ulysses S. Grant National Historic Site <br />7400 Grant Road<br />St. Louis, MO 63123
PRIORITY:3
TRANSP:TRANSPARENT
BEGIN:VALARM
TRIGGER:-PT5M
ACTION:DISPLAY
DESCRIPTION:Reminder
END:VALARM
END:VEVENT
END:VCALENDAR
