BEGIN:VCALENDAR
VERSION:2.0
CALSCALE:GREGORIAN
METHOD:PUBLISH
PRODID://OCON//1428018
BEGIN:VEVENT
DTSTAMP:20260424T092248
VTIMEZONE:America/New_York
DTSTART:20260514T193000Z
DTEND:20260514T203000Z
UID:1428018
SUMMARY:Ribbon Cutting | Trestle Collective
LOCATION:Trestle Collective, 29 North Main Street, Watkinsville, GA, 30677
DESCRIPTION:Ribbon Cutting | Trestle Collective\n\n05/14/26 03:30 PM EST\n - 05/14/26 04:30 PM EST\Location:\nTrestle Collective\n29 North Main Street\nWatkinsville, GA 30677
X-ALT-DESC;FMTTYPE=text/html:Ribbon Cutting | Trestle Collective<br /><br />05/14/26 03:30 PM EST - 05/14/26 04:30 PM EST<br />Location:<br />Trestle Collective<br />29 North Main Street<br />Watkinsville, GA 30677
PRIORITY:3
TRANSP:TRANSPARENT
BEGIN:VALARM
TRIGGER:-PT5M
ACTION:DISPLAY
DESCRIPTION:Reminder
END:VALARM
END:VEVENT
END:VCALENDAR
