BEGIN:VCALENDAR
VERSION:2.0
CALSCALE:GREGORIAN
METHOD:PUBLISH
PRODID://CARR//1428050
BEGIN:VEVENT
DTSTAMP:20260423T223935
VTIMEZONE:America/Chicago
DTSTART:20260611T220000Z
DTEND:20260612T010000Z
UID:1428050
SUMMARY:Chamber Night Shift: The Cupola
LOCATION:The Cupola, 519 N Main St, Carroll, IA, 51401
DESCRIPTION:Chamber Night Shift: The Cupola\n\n06/11/26 05:00 PM CST\n - 06/11/26 08:00 PM CST\Description:\nPlease join us from 4:30-6:30pm for Chamber Night Shift at The Cupola at 519 N Main St in Carroll.\Location:\nThe Cupola\n519 N Main St\nCarroll, IA 51401
X-ALT-DESC;FMTTYPE=text/html:Chamber Night Shift: The Cupola<br /><br />06/11/26 05:00 PM CST - 06/11/26 08:00 PM CST<br />Description:<br />Please join us from 4:30-6:30pm&nbsp;for Chamber&nbsp;Night Shift at The Cupola at 519 N Main St in Carroll.<br />Location:<br />The Cupola<br />519 N Main St<br />Carroll, IA 51401
PRIORITY:3
TRANSP:TRANSPARENT
BEGIN:VALARM
TRIGGER:-PT5M
ACTION:DISPLAY
DESCRIPTION:Reminder
END:VALARM
END:VEVENT
END:VCALENDAR
