BEGIN:VCALENDAR
VERSION:2.0
CALSCALE:GREGORIAN
METHOD:PUBLISH
PRODID://WGSR//1428119
BEGIN:VEVENT
DTSTAMP:20260422T222323
VTIMEZONE:America/Chicago
DTSTART:20260614T180000Z
DTEND:20260614T210000Z
UID:1428119
SUMMARY:Nurses for Newborns 5th Annual Ice Cream Social at the World's Fair Pavilion in Forest Park
LOCATION:World's Fair Pavilion in Forest Park, 1904 Concourse Drive, St. Louis, MO, 63110
DESCRIPTION:Nurses for Newborns 5th Annual Ice Cream Social at the World's Fair Pavilion in Forest Park\n\n06/14/26 01:00 PM CST\n - 06/14/26 04:00 PM CST\Description:\nEnjoy an afternoon of family fun, laughter, and unlimited ice cream - all while supporting local babies and families through Nurses for Newborns. There will be attendance prizes, raffles, face painting, bubbles, kids arts & activities, fire truck, music and more. All proceeds support our Home Visiting Program, serving more than 2,500 local babies and families each year. Nurses for Newborns provides free, in-home care, education, and essential supplies - helping every baby get a healthy start and thrive.\Details:\nTickets may be purchased at the event or online. Single ticket $10, Family Pass (6 wristbands) $40. \Location:\nWorld's Fair Pavilion in Forest Park\n1904 Concourse Drive\nSt. Louis, MO 63110
X-ALT-DESC;FMTTYPE=text/html:Nurses for Newborns 5th Annual Ice Cream Social at the World's Fair Pavilion in Forest Park<br /><br />06/14/26 01:00 PM CST - 06/14/26 04:00 PM CST<br />Description:<br />Enjoy an afternoon of family fun, laughter, and unlimited ice cream - all while supporting local babies and families through Nurses for Newborns. There will be attendance prizes, raffles, face painting, bubbles, kids arts &amp; activities, fire truck, music and more. All proceeds support our Home Visiting Program, serving more than 2,500 local babies and families each year. Nurses for Newborns provides free, in-home care, education, and essential supplies - helping every baby get a healthy start and thrive.<br />Details:<br />Tickets may be purchased at the event or online. Single ticket $10, Family Pass (6 wristbands) $40.&nbsp;<br />Location:<br />World's Fair Pavilion in Forest Park<br />1904 Concourse Drive<br />St. Louis, MO 63110
PRIORITY:3
TRANSP:TRANSPARENT
BEGIN:VALARM
TRIGGER:-PT5M
ACTION:DISPLAY
DESCRIPTION:Reminder
END:VALARM
END:VEVENT
END:VCALENDAR
