BEGIN:VCALENDAR
VERSION:2.0
CALSCALE:GREGORIAN
METHOD:PUBLISH
PRODID://OCON//1428211
BEGIN:VEVENT
DTSTAMP:20260424T092249
VTIMEZONE:America/New_York
DTSTART:20260511T193000Z
DTEND:20260511T201500Z
UID:1428211
SUMMARY:Mini Grant Presentation Program
LOCATION:Virtual Teams Meeting
DESCRIPTION:Mini Grant Presentation Program\n\n05/11/26 03:30 PM EST\n - 05/11/26 04:15 PM EST\Description:\nJoin us on a virtual call as we present the teacher mini grants to our 2026 recipients!\Location:\nVirtual Teams Meeting\n\n,
X-ALT-DESC;FMTTYPE=text/html:Mini Grant Presentation Program<br /><br />05/11/26 03:30 PM EST - 05/11/26 04:15 PM EST<br />Description:<br />Join us on a virtual call as we present the teacher mini grants to our 2026 recipients!<br />Location:<br />Virtual Teams Meeting<br /><br />,  
PRIORITY:3
TRANSP:TRANSPARENT
BEGIN:VALARM
TRIGGER:-PT5M
ACTION:DISPLAY
DESCRIPTION:Reminder
END:VALARM
END:VEVENT
END:VCALENDAR
