BEGIN:VCALENDAR
VERSION:2.0
CALSCALE:GREGORIAN
METHOD:PUBLISH
PRODID://JCOC//1428393
BEGIN:VEVENT
DTSTAMP:20260424T110617
VTIMEZONE:America/Chicago
DTSTART:20260604T163000Z
DTEND:20260604T180000Z
UID:1428393
SUMMARY:Women in Business Luncheon
LOCATION:The Ranch, 10596 S. Elm Street, Jenks, OK, 74037
DESCRIPTION:Women in Business Luncheon\n\n06/04/26 11:30 AM CST\n - 06/04/26 01:00 PM CST\Description:\nSponsored by Tulsa Tech, OK Aquarium & CJC Architects\n\nJoin us for our Summer in Paris Women in Business Luncheon!\n\nOur keynote speaker, Sheila Dills, owner of Patisserie by Sheila Anne and Jenks Business of the Year winner, will share how she turned a dream into a successful business. What began as a small bakery has grown into a full restaurant experience led by a Michelin Star chef, bringing a taste of Paris to Jenks.\n\nKnown for her creativity and community spirit, Sheila continues to bring big ideas to life—from her restaurant to seasonal experiences like Mrs. Claus’ chalet at Lights On.\n\nDoors open at 11:30 AM on Thursday, June 4th at The Ranch.\n\n \n\n Click to View: Liability Waiver\Location:\nThe Ranch\n10596 S. Elm Street\nJenks, OK 74037
X-ALT-DESC;FMTTYPE=text/html:Women in Business Luncheon<br /><br />06/04/26 11:30 AM CST - 06/04/26 01:00 PM CST<br />Description:<br /><p><strong>Sponsored by Tulsa Tech, OK Aquarium &amp; CJC Architects</strong><br />
<br />
Join us for our Summer in Paris Women in Business Luncheon!</p>

<p>Our keynote speaker, Sheila Dills, owner of Patisserie by Sheila Anne and&nbsp;Jenks&nbsp;Business of the Year winner, will share how she turned a dream into a successful business. What began as a small bakery has grown into a full restaurant experience led by a Michelin Star chef, bringing a taste of Paris to Jenks.</p>

<p>Known for her creativity and community spirit, Sheila continues to bring big ideas to life&mdash;from her restaurant to seasonal experiences like Mrs. Claus&rsquo; chalet at Lights On.</p>

<p>Doors open at 11:30 AM on Thursday, June 4th at The Ranch.</p>

<p>&nbsp;</p>
<br />
&nbsp;<strong>Click to View:&nbsp;<a href="https://www.dropbox.com/scl/fi/xh0okrwobjv6y4if070ca/jenks-chamber-of-commerce-liability-waiver.pdf?rlkey=wj6uvimc4q2zlk53to4b1rgxe&amp;st=72p7pdtm&amp;dl=0">Liability Waiver</a></strong><br />Location:<br />The Ranch<br />10596 S. Elm Street<br />Jenks, OK 74037
PRIORITY:3
TRANSP:TRANSPARENT
BEGIN:VALARM
TRIGGER:-PT5M
ACTION:DISPLAY
DESCRIPTION:Reminder
END:VALARM
END:VEVENT
END:VCALENDAR
