BEGIN:VCALENDAR
VERSION:2.0
CALSCALE:GREGORIAN
METHOD:PUBLISH
PRODID://JCOC//1428595
BEGIN:VEVENT
DTSTAMP:20260424T110617
VTIMEZONE:America/Chicago
DTSTART:20260618T210000Z
DTEND:20260618T230000Z
UID:1428595
SUMMARY:Network Jenks
LOCATION:TBD
DESCRIPTION:Network Jenks\n\n06/18/26 04:00 PM CST\n - 06/18/26 06:00 PM CST\Description:\nNetwork Jenks After Hours is a monthly networking event where Chamber members can unwind, connect, and build relationships in a casual evening setting.  This is a fun and relaxed way to grow your network and stay engaged with the Jenks business community.\n\nClick to View: Liability Waiver\Location:\nTBD\n\n,
X-ALT-DESC;FMTTYPE=text/html:Network Jenks<br /><br />06/18/26 04:00 PM CST - 06/18/26 06:00 PM CST<br />Description:<br />Network Jenks After Hours is a monthly networking event where Chamber members can unwind, connect, and build relationships in a casual evening setting.&nbsp; This is a fun and relaxed way to grow your network and stay engaged with the Jenks business community.<br />
<br />
<strong>Click to View:&nbsp;<a href="https://www.dropbox.com/scl/fi/xh0okrwobjv6y4if070ca/jenks-chamber-of-commerce-liability-waiver.pdf?rlkey=wj6uvimc4q2zlk53to4b1rgxe&amp;st=72p7pdtm&amp;dl=0">Liability Waiver</a></strong><br />Location:<br />TBD<br /><br />,  
PRIORITY:3
TRANSP:TRANSPARENT
BEGIN:VALARM
TRIGGER:-PT5M
ACTION:DISPLAY
DESCRIPTION:Reminder
END:VALARM
END:VEVENT
END:VCALENDAR
